BEGIN:VCALENDAR
VERSION:2.0
PRODID:-//Bath Artists Studios - ECPv4.6.11.1//NONSGML v1.0//EN
CALSCALE:GREGORIAN
METHOD:PUBLISH
X-WR-CALNAME:Bath Artists Studios
X-ORIGINAL-URL:https://bas-staging.blispa.com
X-WR-CALDESC:Events for Bath Artists Studios
BEGIN:VEVENT
DTSTART;TZID=UTC+0:20180126T120000
DTEND;TZID=UTC+0:20180211T170000
DTSTAMP:20260420T144302
CREATED:20180126T103444Z
LAST-MODIFIED:20180212T172440Z
UID:112-1516968000-1518368400@bas-staging.blispa.com
SUMMARY:BUT IS IT ART?
DESCRIPTION:A group of figures react to an unseen work of art\, capturing a variety of emotions; curiosity\, fascination\, bewilderment\, even hostility. It is up to us\, the viewer to recreate the invisible work in our minds eye\, and depending upon its nature\, our perception of the character of the sculpted gallery goers changes. \nCentred on the completed figure group and accompanied by preparatory drawings and documentary photos\, the body of work in this exhibition is the result of a project by one of Bath Artists’ Studios longest standing classes led by sculptor Sue Larner. \nThe group aim to use this exhibition as a springboard from which to secure the eventual realisation of the piece as a permanent work for a public space in Bath. \nExhibition Opening Hours: 12.00-5.00pm \n
URL:https://bas-staging.blispa.com/event/but-is-it-art/
LOCATION:Bath Artists Studios\, Bath\, Bath & NE Somerset\, BA1 3AJ\, United Kingdom
GEO:51.3843219;-2.3740353
X-APPLE-STRUCTURED-LOCATION;VALUE=URI;X-ADDRESS=Bath Artists Studios Bath Bath & NE Somerset BA1 3AJ United Kingdom;X-APPLE-RADIUS=500;X-TITLE=Bath Artists Studios:geo:-2.3740353,51.3843219
CATEGORIES:Exhibitions
ATTACH;FMTTYPE=image/jpeg:https://bas-staging.blispa.com/wp-content/uploads/2018/01/But-is-it-Art-front-768x512.jpg
END:VEVENT
END:VCALENDAR