BEGIN:VCALENDAR
VERSION:2.0
PRODID:-//Bath Artists Studios - ECPv4.6.11.1//NONSGML v1.0//EN
CALSCALE:GREGORIAN
METHOD:PUBLISH
X-WR-CALNAME:Bath Artists Studios
X-ORIGINAL-URL:https://bas-staging.blispa.com
X-WR-CALDESC:Events for Bath Artists Studios
BEGIN:VEVENT
DTSTART;TZID=UTC+0:20180113T110000
DTEND;TZID=UTC+0:20180113T123000
DTSTAMP:20260420T160656
CREATED:20180221T215715Z
LAST-MODIFIED:20180221T215715Z
UID:1104-1515841200-1515846600@bas-staging.blispa.com
SUMMARY:Children’s Saturday Studio Art Club (Age 7-11)
DESCRIPTION:\n-For Children Aged 7 – 11 from 11.00am – 12.30pm \nSpring Term 2018 – 13th January\, 27th January\, 3rd Feb (Half term break) 24th February\, 3rd March\, 17th March\nThe club continues throughout the year\n \nKeep the kids entertained on Saturday mornings by exploring a variety of arts and crafts in a real artists’ studio center- drawing\, painting\, textiles\, clay\, paper-crafts\, print and more.\nA great way to spend the weekends having fun\, making new friends and learning new creative skills. Pupils will learn new artistic techniques\, investigate a number of artists and designers work and creative professions and also get the chance to work towards a special gallery showcase of their work. As well as creating some fantastic items to take home pupils will also have a chance to work towards Arts Award- a nationally recognised qualification which challenges them to develop their creativity and record their artistic achievements. Children will receive a special Arts Award booklet to document their creations and a certificate on completion of the award.  See www.artsaward.org. For more details on Arts Award. Art Club is open to Children aged 7+ and runs for the whole academic year. \nDays & Price: Every other Saturday\, 6 sessions. 11am – 12.30pm. Autumn Term Payment: £54 Fully Booked – please get in contact to be added to the waiting list. \n
URL:https://bas-staging.blispa.com/event/childrens-saturday-studio-art-club-age-7-11/2018-01-13/
LOCATION:Bath Artist Studios\, Bath\, Bath & NE Somerset\, BA1 5EB\, United Kingdom
GEO:51.3843219;-2.3740353
X-APPLE-STRUCTURED-LOCATION;VALUE=URI;X-ADDRESS=Bath Artist Studios Bath Bath & NE Somerset BA1 5EB United Kingdom;X-APPLE-RADIUS=500;X-TITLE=Bath Artist Studios:geo:-2.3740353,51.3843219
CATEGORIES:Classes and Workshops,For Children
ATTACH;FMTTYPE=image/jpeg:https://bas-staging.blispa.com/wp-content/uploads/2018/02/Funky-House-7-11.jpg
ORGANIZER;CN="Funky%20Art%20House":MAILTO:art@funkyarthouse.co.uk
END:VEVENT
END:VCALENDAR