BEGIN:VCALENDAR
VERSION:2.0
PRODID:-//Bath Artists Studios - ECPv4.6.11.1//NONSGML v1.0//EN
CALSCALE:GREGORIAN
METHOD:PUBLISH
X-WR-CALNAME:Bath Artists Studios
X-ORIGINAL-URL:https://bas-staging.blispa.com
X-WR-CALDESC:Events for Bath Artists Studios
BEGIN:VEVENT
DTSTART;TZID=UTC+0:20180110T094500
DTEND;TZID=UTC+0:20180110T124500
DTSTAMP:20260420T220324
CREATED:20180221T212719Z
LAST-MODIFIED:20180221T212719Z
UID:1037-1515577500-1515588300@bas-staging.blispa.com
SUMMARY:Creativity Through Watercolour and Mixed Media
DESCRIPTION:  \nThis is a course enabling people to develop in their own unique way. Initially the craft and techniques of watercolours and then of mixed media (combining watercolour with gouache and acrylic\, also charcoal and pastels) will be taught and demonstrated to show their descriptive and expressive potential. Oil painting techniques are also taught. Nature is experiences in the details of growth patterns as well as through landscape. Natural forms echo our own psychological processes and they also provide the starting point for imaginative themes\, thus linking the inner and outer worlds. \nTutor: \n
URL:https://bas-staging.blispa.com/event/creativity-through-watercolour-and-mixed-media/2018-01-10/
LOCATION:Bath Artist Studios\, Bath\, Bath & NE Somerset\, BA1 5EB\, United Kingdom
GEO:51.3843219;-2.3740353
X-APPLE-STRUCTURED-LOCATION;VALUE=URI;X-ADDRESS=Bath Artist Studios Bath Bath & NE Somerset BA1 5EB United Kingdom;X-APPLE-RADIUS=500;X-TITLE=Bath Artist Studios:geo:-2.3740353,51.3843219
CATEGORIES:Classes and Workshops
ORGANIZER;CN="Michael%20Chaitow":MAILTO:michaelchaitow@hotmail.co.uk
END:VEVENT
END:VCALENDAR