BEGIN:VCALENDAR
VERSION:2.0
PRODID:-//Bath Artists Studios - ECPv4.6.11.1//NONSGML v1.0//EN
CALSCALE:GREGORIAN
METHOD:PUBLISH
X-WR-CALNAME:Bath Artists Studios
X-ORIGINAL-URL:https://bas-staging.blispa.com
X-WR-CALDESC:Events for Bath Artists Studios
BEGIN:VEVENT
DTSTART;TZID=UTC+0:20180126T140000
DTEND;TZID=UTC+0:20180126T170000
DTSTAMP:20260420T160230
CREATED:20180126T115304Z
LAST-MODIFIED:20180126T141012Z
UID:146-1516975200-1516986000@bas-staging.blispa.com
SUMMARY:Drawing from Life 2pm-5pm
DESCRIPTION:8th January – 19th March\n(Half Term 12th February)\n10am-1pm or 2pm-5pm \nIntensive drawing classes for those keen to learn. The course is aimed toward those who are looking to establish a firm and intelligent foundation for a lifetime of creative practice. \nClass costs does NOT include materials. \n
URL:https://bas-staging.blispa.com/event/drawing-from-life-2pm-5pm/
CATEGORIES:Classes and Workshops
ATTACH;FMTTYPE=image/jpeg:https://bas-staging.blispa.com/wp-content/uploads/2018/01/pepper-painting-class.jpg
ORGANIZER;CN="Charlotte%20Sorapure":MAILTO:charlotte.sorapure@gmail.com
END:VEVENT
END:VCALENDAR