BEGIN:VCALENDAR
VERSION:2.0
PRODID:-//Bath Artists Studios - ECPv4.6.11.1//NONSGML v1.0//EN
CALSCALE:GREGORIAN
METHOD:PUBLISH
X-WR-CALNAME:Bath Artists Studios
X-ORIGINAL-URL:https://bas-staging.blispa.com
X-WR-CALDESC:Events for Bath Artists Studios
BEGIN:VEVENT
DTSTART;TZID=UTC+0:20180110T133000
DTEND;TZID=UTC+0:20180110T163000
DTSTAMP:20260420T202847
CREATED:20180221T213055Z
LAST-MODIFIED:20180221T213112Z
UID:1048-1515591000-1515601800@bas-staging.blispa.com
SUMMARY:Life Sculpture
DESCRIPTION:The life model holds one pose for 3-4 weeks. Clay\, direct ciment fondu and wire are used to discover the human form in three dimensions. We will also tackle the portrait head\, the relief and casting. Beginners welcome \n
URL:https://bas-staging.blispa.com/event/life-sculpture/2018-01-10/
LOCATION:Bath Artist Studios\, Bath\, Bath & NE Somerset\, BA1 5EB\, United Kingdom
GEO:51.3843219;-2.3740353
X-APPLE-STRUCTURED-LOCATION;VALUE=URI;X-ADDRESS=Bath Artist Studios Bath Bath & NE Somerset BA1 5EB United Kingdom;X-APPLE-RADIUS=500;X-TITLE=Bath Artist Studios:geo:-2.3740353,51.3843219
CATEGORIES:Classes and Workshops
ORGANIZER;CN="Sue%20Larner":MAILTO:suelarner@icloud.com
END:VEVENT
END:VCALENDAR