BEGIN:VCALENDAR
VERSION:2.0
PRODID:-//Bath Artists Studios - ECPv4.6.11.1//NONSGML v1.0//EN
CALSCALE:GREGORIAN
METHOD:PUBLISH
X-WR-CALNAME:Bath Artists Studios
X-ORIGINAL-URL:https://bas-staging.blispa.com
X-WR-CALDESC:Events for Bath Artists Studios
BEGIN:VEVENT
DTSTART;TZID=UTC+0:20180111T100000
DTEND;TZID=UTC+0:20180111T130000
DTSTAMP:20260420T190626
CREATED:20180221T213701Z
LAST-MODIFIED:20180221T213701Z
UID:1079-1515664800-1515675600@bas-staging.blispa.com
SUMMARY:The Art of Portraiture
DESCRIPTION:11th January – 22nd March\n(Half-Term 15th February)\n10.00am-1.00pm\n£150 (not inc materials) \nA structured course in the art of portraiture working from the model\, progressing from drawing (structure and proportion) through to full painting. Emphasis will be given to the progression from drawing through to painting in stages using traditional laying and glazing techniques. \nTutor: Michael Chaitow \n
URL:https://bas-staging.blispa.com/event/the-art-of-portraiture/2018-01-11/
LOCATION:Bath Artist Studios\, Bath\, Bath & NE Somerset\, BA1 5EB\, United Kingdom
GEO:51.3843219;-2.3740353
X-APPLE-STRUCTURED-LOCATION;VALUE=URI;X-ADDRESS=Bath Artist Studios Bath Bath & NE Somerset BA1 5EB United Kingdom;X-APPLE-RADIUS=500;X-TITLE=Bath Artist Studios:geo:-2.3740353,51.3843219
CATEGORIES:Classes and Workshops
ORGANIZER;CN="Michael%20Chaitow":MAILTO:michaelchaitow@hotmail.co.uk
END:VEVENT
END:VCALENDAR